BEGIN:VCALENDAR
VERSION:2.0
PRODID:-//Advanced Intellect//aspNetEmail Calendar Writer(v4.0.0.57)//EN
METHOD:POST
BEGIN:VTIMEZONE
LAST-MODIFIED:20260425T171035Z
TZID:Central Standard Time
BEGIN:STANDARD
DTSTART:16010101T030000
TZOFFSETFROM:-0500
TZOFFSETTO:-0600
TZNAME:CST
RRULE:FREQ=YEARLY;BYMONTH=11;BYDAY=1SU
END:STANDARD
BEGIN:DAYLIGHT
DTSTART:16010101T020000
TZOFFSETFROM:-0600
TZOFFSETTO:-0500
TZNAME:CDT
RRULE:FREQ=YEARLY;BYMONTH=3;BYDAY=2SU
END:DAYLIGHT
END:VTIMEZONE
BEGIN:VEVENT
DTSTART;TZID="Central Standard Time":20250714T084500
DTEND;TZID="Central Standard Time":20250717T120000
UID:f07c47f4-0c80-498f-9bdf-39e82dc29312
CREATED:20260425T221035Z
DTSTAMP:20260425T221035Z
LAST-MODIFIED:20260425T221035Z
DESCRIPTION:
CLASS:PUBLIC
LOCATION:CLC - Gym
PRIORITY:5
SUMMARY:Volleyball Camp 2025
TRANSP:OPAQUE
SEQUENCE:0
ORGANIZER;CN="Adam Willis":MAILTO:adam@fumcdothan.org
STATUS:NEEDS ACTION
BEGIN:VALARM
DESCRIPTION:Volleyball Camp 2025
ACTION:DISPLAY
TRIGGER:-PT30M
END:VALARM
END:VEVENT
END:VCALENDAR